BEGIN:VCALENDAR
VERSION:2.0
PRODID:-//Hoeve Veganza - ECPv6.15.20//NONSGML v1.0//EN
CALSCALE:GREGORIAN
METHOD:PUBLISH
X-WR-CALNAME:Hoeve Veganza
X-ORIGINAL-URL:https://veganza.nl
X-WR-CALDESC:Evenementen voor Hoeve Veganza
REFRESH-INTERVAL;VALUE=DURATION:PT1H
X-Robots-Tag:noindex
X-PUBLISHED-TTL:PT1H
BEGIN:VTIMEZONE
TZID:Europe/Amsterdam
BEGIN:DAYLIGHT
TZOFFSETFROM:+0100
TZOFFSETTO:+0200
TZNAME:CEST
DTSTART:20250330T010000
END:DAYLIGHT
BEGIN:STANDARD
TZOFFSETFROM:+0200
TZOFFSETTO:+0100
TZNAME:CET
DTSTART:20251026T010000
END:STANDARD
BEGIN:DAYLIGHT
TZOFFSETFROM:+0100
TZOFFSETTO:+0200
TZNAME:CEST
DTSTART:20260329T010000
END:DAYLIGHT
BEGIN:STANDARD
TZOFFSETFROM:+0200
TZOFFSETTO:+0100
TZNAME:CET
DTSTART:20261025T010000
END:STANDARD
BEGIN:DAYLIGHT
TZOFFSETFROM:+0100
TZOFFSETTO:+0200
TZNAME:CEST
DTSTART:20270328T010000
END:DAYLIGHT
BEGIN:STANDARD
TZOFFSETFROM:+0200
TZOFFSETTO:+0100
TZNAME:CET
DTSTART:20271031T010000
END:STANDARD
END:VTIMEZONE
BEGIN:VEVENT
DTSTART;TZID=Europe/Amsterdam:20260508T120000
DTEND;TZID=Europe/Amsterdam:20260510T130000
DTSTAMP:20260420T221115
CREATED:20260420T075921Z
LAST-MODIFIED:20260420T111318Z
UID:3568-1778241600-1778418000@veganza.nl
SUMMARY:Moederdagweekend Hoeve Veganza
DESCRIPTION:Moederdagweekend 2026 \nIn een wereld die steeds sneller draait en zelden stilstaat\, groeit het verlangen naar rust\, aandacht en echte verbinding. Naar momenten waarop je even niets hoeft — behalve er zijn. En misschien… elkaar opnieuw ontmoeten. Wanneer heb je voor het laatst écht de tijd genomen voor een goed gesprek? \nMoederdag is een uitgelezen moment om eens stil te staan bij misschien we de meest speciale relatie die je hebt\, die met je moeder. Gun jezelf de rust om stil te staan bij je relatie haar en samen dit weekendje beleven. Of wil je misschien eens meer stil staan bij zelf moeder zijn.  \nDit weekend geeft de tijd voor bezinning\, lachen\, goede gesprekken\, creativiteit\, gezellige uitstapjes en lekker eten in een ontspannen sfeer. Laat weten als je speciale wensen hebt. We zijn er voor jou. \nNodig je moeder uit voor zo’n speciaal weekend\, maar andersom kan natuurljk ook\, als je eens meer tijd met je kind wil doorbrengen\, zonder teveel afgeleid te zijn.  \nProgramma \n• Ontvangst met drankje en hapje\n• 2 keer diner\, met muzikale omlijsting van Katakat.\n• 2 keer uitgebreid ontbijt\n• 1 keer lunch\n• Workshop tekenen/ schilderen geïnspireerd door de natuur bij Lianne de Kort\, beeldend kunstenaar.\n• Begeleide wandeling (Beleefpad)\n• Wandel- en fietsroutes en informatie over omgeving.\n• Een omgeving binnen en buiten voor rust en bezinning \nDe muziek \nKatakat is een sprankelend muziekduo (M/V) dat alleen eigen liedjes speelt\, in het Nederlands én in het Engels. Met gitaren\, ukelele\, accordeon\, percussie en harmonieuze samenzang brengt het bevlogen tweetal liedjes vanuit het hart. Ingetogen én uitbundig: ‘een aanrader voor danslustige luistervinken’. Luister hier maar.  \nHoeve Veganza \nHoeve Veganza staat midden in de natuur van Westerwolde met tal van mogelijkheden. Wij willen onze gasten een geweldige tijd geven. Wat wij aanbieden is: een toevluchtsoord (rust en stilte\, onthaasten en bezinning)\, een uitvalsbasis (wandelen\, fietsen) en een ontdekkingsreis in de mooie natuur van Westerwolde.\nAlle onze maaltijden zijn 100% plantaardig. Wij willen bijdragen aan een duurzame en diervriendelijke wereld. Laat u verrassen.\nLocatie: Hoeve Veganza. Winselweg 5 9541 VL Vlagtwedde\nemail: info@veganza.nl\nTelefoon/ Signal: 0648774889; 0648866571 \nData en tijd \nDit arrangement is tijdens het moederdag weekend. 8-10 mei 2026.\nAankomst: 14.00 Vertrek 14.00 \nOvernachtingsmogelijkheden\nEr zijn vier B&B kamers beschikbaar in het hoofdhuis met een eigen thema. Elke kamer is geschikt voor twee personen\, heeft thee- en koffiefaciliteiten\, een zitje en een eigen badkamer. De kamers hebben een uitgang naar de deel en de serre\, maar er is ook een directe toegang van buitenaf. Ook zijn er eigen terrasjes naast de kamer. \nKosten \n€380 p.p. (op basis van een gedeelde kamer)\n€440 p.p. (op basis van een eenpersoonskamer)\nMaximaal 8 deelnemers — kleinschalig en persoonlijk \nReservering\, Informatie en speciale wensen \nReserveren kan via email info@veganza.nl of Telefoon/ Signal: 0648774889; 0648866571 \nSpeciaal: U kunt dit arrangement ook als cadeau geven. Laat dat weten dan sturen we een bon.\nHoeve Veganza serveert plantaardige maaltijden. Geef door als er nog speciale wensen zijn  \nEr is plaats voor maximaal 8 personen. \nMet vriendelijke groet\,\nHoeve Veganza\nYvonne en Jeroen
URL:https://veganza.nl/event/inspirerend-moederdagweekend/
LOCATION:Hoeve Veganza\, Winselweg 5\, Vlagtwedde\, 9541 VL\, Netherlands
ORGANIZER;CN="Hoeve Veganza":MAILTO:info@veganza.nl
END:VEVENT
END:VCALENDAR