BEGIN:VCALENDAR
VERSION:2.0
PRODID:-//Hoeve Veganza - ECPv6.15.20//NONSGML v1.0//EN
CALSCALE:GREGORIAN
METHOD:PUBLISH
X-WR-CALNAME:Hoeve Veganza
X-ORIGINAL-URL:https://veganza.nl
X-WR-CALDESC:Evenementen voor Hoeve Veganza
REFRESH-INTERVAL;VALUE=DURATION:PT1H
X-Robots-Tag:noindex
X-PUBLISHED-TTL:PT1H
BEGIN:VTIMEZONE
TZID:Europe/Amsterdam
BEGIN:DAYLIGHT
TZOFFSETFROM:+0100
TZOFFSETTO:+0200
TZNAME:CEST
DTSTART:20250330T010000
END:DAYLIGHT
BEGIN:STANDARD
TZOFFSETFROM:+0200
TZOFFSETTO:+0100
TZNAME:CET
DTSTART:20251026T010000
END:STANDARD
BEGIN:DAYLIGHT
TZOFFSETFROM:+0100
TZOFFSETTO:+0200
TZNAME:CEST
DTSTART:20260329T010000
END:DAYLIGHT
BEGIN:STANDARD
TZOFFSETFROM:+0200
TZOFFSETTO:+0100
TZNAME:CET
DTSTART:20261025T010000
END:STANDARD
BEGIN:DAYLIGHT
TZOFFSETFROM:+0100
TZOFFSETTO:+0200
TZNAME:CEST
DTSTART:20270328T010000
END:DAYLIGHT
BEGIN:STANDARD
TZOFFSETFROM:+0200
TZOFFSETTO:+0100
TZNAME:CET
DTSTART:20271031T010000
END:STANDARD
END:VTIMEZONE
BEGIN:VEVENT
DTSTART;TZID=Europe/Amsterdam:20260711T110000
DTEND;TZID=Europe/Amsterdam:20260711T170000
DTSTAMP:20260421T015354
CREATED:20260420T110217Z
LAST-MODIFIED:20260420T110346Z
UID:3582-1783767600-1783789200@veganza.nl
SUMMARY:Montmartre Sellingen
DESCRIPTION:Voor een dag waan je je in Parijs bij het Montmartre schilders festival in Sellingen. Naast de verkoop van de mooiste kunstwerken is er ook dit jaar van alles te beleven voor jong en oud.
URL:https://veganza.nl/event/montmartre-sellingen/
END:VEVENT
END:VCALENDAR